BEGIN:VCALENDAR
VERSION:2.0
PRODID:TU Chemnitz
METHOD:PUBLISH
X-WR-CALNAME:Veranstaltungen der TU Chemnitz
X-WR-TIMEZONE:Europe/Berlin
BEGIN:VEVENT
CLASS:PUBLIC
DTSTART;TZID="Europe/Berlin":20030521T171500
DTEND;TZID="Europe/Berlin":20030521T184500
LOCATION:Str. der Nationen 62\, Chemnitz (Böttcher-Bau)
SUMMARY:Innovation: Von der Idee zu Produkt und Markterfolg (Fakultät für Naturwissenschaften\, Institut für Chemie)
DESCRIPTION:wöchentlich: Seine Darstellungen sind sicher für jeden Bearbeiter eines Projektes in der Wissenschaft hilfreich und interessant. \nDieser Vorlesungsteil kann auch dann mit Gewinn gehört werden\, wenn der 1. Teil nicht gehört wurde.\nDr. Steffen Rößler\, RKW Sachsen GmbH\nProf. R. Holze\, Tel. 0371 5311509\, email: rudolf.holze@chemie.tu-chemnitz.de
ORGANIZER:MAILTO:erah@hrz.tu-chemnitz.de
UID:3478@www.tu-chemnitz.de
CREATED:20030515T072500Z
DTSTAMP:20210802T201724Z
END:VEVENT
END:VCALENDAR
