BEGIN:VCALENDAR
VERSION:2.0
PRODID:TU Chemnitz
METHOD:PUBLISH
X-WR-CALNAME:Veranstaltungen der TU Chemnitz
X-WR-TIMEZONE:Europe/Berlin
BEGIN:VEVENT
CLASS:PUBLIC
DTSTART;TZID="Europe/Berlin":19990306T100000
DTEND;TZID="Europe/Berlin":19990306T153000
LOCATION:Uni-Teil 1: Bahnhofstr. 8\, Chemnitz (Int. Begegnungs- und Informationszentrum)
SUMMARY:GRÜNDERTAG (Universitätsverwaltung\, Fakultät für Wirtschaftswissenschaften der TU Chemnitz und GründerCollege Chemnitz)
DESCRIPTION:Der Gründungsplan\nVorstellung der Stiftungsprofessur der Sparkasse Chemnitz für Unternehmensgründung\nMarktplatz\nWorkshops (Marketing\, Finanzierung\, persönliche Absicherung\, Franchise)\nIndividuelle Beratung\nDr. Rainer D. Kittig\, Abteilung Technologie- und Wissenstransfer\, Tel.: 0371-531 1706\, technologietransfer@tu-chemnitz.de
ORGANIZER:MAILTO:rkit@hrz.tu-chemnitz.de
UID:347@www.tu-chemnitz.de
CREATED:19990212T110200Z
DTSTAMP:20210802T203452Z
END:VEVENT
END:VCALENDAR
