BEGIN:VCALENDAR
VERSION:2.0
PRODID:TU Chemnitz
METHOD:PUBLISH
X-WR-CALNAME:Veranstaltungen der TU Chemnitz
X-WR-TIMEZONE:Europe/Berlin
BEGIN:VEVENT
CLASS:PUBLIC
DTSTART;TZID="Europe/Berlin":20030514T213000
DTEND;TZID="Europe/Berlin":20030515T020000
LOCATION:PEB-Studentenkeller\, Reichenhainer Str.37
SUMMARY:PEB-Mittwochdisco (PEB-Studentenkeller)
DESCRIPTION: \nAbschalten vom Studienalltag\, Freunde treffen\, \nein Bier oder einen Cocktail trinken und auf \njeden Fall eine Menge Spaß haben - die beste\nMittwoch-Party des Campus findet wieder im\nPEB statt!!!\n \n
ORGANIZER:MAILTO:thein@hrz.tu-chemnitz.de
UID:3468@www.tu-chemnitz.de
CREATED:20030512T175900Z
DTSTAMP:20210802T201726Z
END:VEVENT
END:VCALENDAR
