BEGIN:VCALENDAR
VERSION:2.0
PRODID:TU Chemnitz
METHOD:PUBLISH
X-WR-CALNAME:Veranstaltungen der TU Chemnitz
X-WR-TIMEZONE:Europe/Berlin
BEGIN:VEVENT
CLASS:PUBLIC
DTSTART;TZID="Europe/Berlin":20030514T190000
DTEND;TZID="Europe/Berlin":20030514T230000
LOCATION:Reichenhainer Str. 55\, Chemnitz (Mensa)
SUMMARY:Champions League im TaC: Juventus Turin - Real Madrid (TU Chemnitz)
DESCRIPTION: ....eine zweite kleine Happy Hour im TaC....die es in sich hat:\n\nvon 19:00-20:00 Uhr kostet der Caipi nur 2\,00 EUR und das große Bier nur 1\,00 EUR
ORGANIZER:MAILTO:made@hrz.tu-chemnitz.de
UID:3464@www.tu-chemnitz.de
CREATED:20030511T223600Z
DTSTAMP:20210802T201726Z
END:VEVENT
END:VCALENDAR
