BEGIN:VCALENDAR
VERSION:2.0
PRODID:TU Chemnitz
METHOD:PUBLISH
X-WR-CALNAME:Veranstaltungen der TU Chemnitz
X-WR-TIMEZONE:Europe/Berlin
BEGIN:VEVENT
CLASS:PUBLIC
DTSTART;TZID="Europe/Berlin":20030514T193000
DTEND;TZID="Europe/Berlin":20030514T213000
LOCATION:Reichenhainer Str. 70\, Chemnitz (Rühlmann-Bau)
SUMMARY:Rätsel unseres Daseins (Studentengruppe "etc.")
DESCRIPTION:www.tu-chemnitz.de/~wtob/raetsel\nTorsten Hahn\netc-chemnitz@web.de
ORGANIZER:MAILTO:wtob@hrz.tu-chemnitz.de
UID:3460@www.tu-chemnitz.de
CREATED:20030509T122400Z
DTSTAMP:20210802T201722Z
END:VEVENT
END:VCALENDAR
