BEGIN:VCALENDAR
VERSION:2.0
PRODID:TU Chemnitz
METHOD:PUBLISH
X-WR-CALNAME:Veranstaltungen der TU Chemnitz
X-WR-TIMEZONE:Europe/Berlin
BEGIN:VEVENT
CLASS:PUBLIC
DTSTART;TZID="Europe/Berlin":20030612T200000
DTEND;TZID="Europe/Berlin":20030612T220000
LOCATION:Thüringer Weg\, Club der Kulturen
SUMMARY:Afrikanische Märchen (Club der Kulturen\, Englische Sprachwissenschaft\, Romanische Kulturwissenschaft\, Brit. u. Am. Kultur- u. Länderstudien)
DESCRIPTION:Eine Entdeckungsreise in die west- und nordafrikanische Märchenwelt. Im Rahmen der 'Afrika in Chemnitz'-Veranstaltungsreihe.\nBalbina Mesue Ebong\, Azzedine Elmatine\, Sylvia Voigt\nanne.schroeder@phil.tu-chemnitz.de\, sylviavoigt@hotmail.com
ORGANIZER:MAILTO:annesch@hrz.tu-chemnitz.de
UID:3447@www.tu-chemnitz.de
CREATED:20030507T184300Z
DTSTAMP:20210802T201635Z
END:VEVENT
END:VCALENDAR
