BEGIN:VCALENDAR
VERSION:2.0
PRODID:TU Chemnitz
METHOD:PUBLISH
X-WR-CALNAME:Veranstaltungen der TU Chemnitz
X-WR-TIMEZONE:Europe/Berlin
BEGIN:VEVENT
CLASS:PUBLIC
DTSTART;TZID="Europe/Berlin":20030705T090000
DTEND;TZID="Europe/Berlin":20030705T090000
LOCATION:Sportplatz\, Chemnitz
SUMMARY:1. Chemnitzer Mädchen-und Frauenfußballtag
DESCRIPTION:\nAn diesem Tag dreht sich auf dem Sportplatz der TU Chemnitz und im Poststadion alles um den Frauenfußball.\n\nOb zum zuschauen oder noch besser gleich zum mitmachen\, vorbeischauen lohnt sich auf jeden Fall. \n\nchemnitzer-frauenfussballtag@gmx.de
ORGANIZER:MAILTO:rreg@hrz.tu-chemnitz.de
UID:3428@www.tu-chemnitz.de
CREATED:20030504T194300Z
DTSTAMP:20210802T201601Z
END:VEVENT
END:VCALENDAR
