BEGIN:VCALENDAR
VERSION:2.0
PRODID:TU Chemnitz
METHOD:PUBLISH
X-WR-CALNAME:Veranstaltungen der TU Chemnitz
X-WR-TIMEZONE:Europe/Berlin
BEGIN:VEVENT
CLASS:PUBLIC
DTSTART;TZID="Europe/Berlin":20030515T153000
DTEND;TZID="Europe/Berlin":20030515T164500
LOCATION:Reichenhainer Str. 70\, Chemnitz (Zentr. Hörsaal- und Seminargebäude)
SUMMARY:Kolloquium des SFB 379 "Mikromechanische Sensor- und Aktorarrays" : Eigenschaften und Anwendungen von Cantilevern im MHz-Bereich (Fakultät für Elektrotechnik und Informationstechnik\, gemeinsam mit dem Institut für Physik)
DESCRIPTION:Dr. Tilmann Schäffer\, Universität Münster\, Physikalisches Institut\nDr. Wolfgang Seckel
ORGANIZER:MAILTO:seckel@hrz.tu-chemnitz.de
UID:3404@www.tu-chemnitz.de
CREATED:20030428T132900Z
DTSTAMP:20210802T201715Z
END:VEVENT
END:VCALENDAR
