BEGIN:VCALENDAR
VERSION:2.0
PRODID:TU Chemnitz
METHOD:PUBLISH
X-WR-CALNAME:Veranstaltungen der TU Chemnitz
X-WR-TIMEZONE:Europe/Berlin
BEGIN:VEVENT
CLASS:PUBLIC
DTSTART;TZID="Europe/Berlin":20030506T171500
DTEND;TZID="Europe/Berlin":20030506T184500
LOCATION:Wilhelm-Raabe-Str. 43\, Chemnitz
SUMMARY:Psychologie-Kolloquium: \"Informationsverarbeitung im Gehirn am Beispiel von Hochbegabung\" (Philosophische Fakultät\, Institut für Psychologie)
DESCRIPTION:Prof. Dr. Werner Krause\, Universität Jena\, Institut für Psychologie\nProf. Dr. Gauggel\, Tel. 531-6321\, siegfried.gauggel@phil.tu-chemnitz.de
ORGANIZER:MAILTO:pfl@hrz.tu-chemnitz.de
UID:3393@www.tu-chemnitz.de
CREATED:20030424T091400Z
DTSTAMP:20210802T201721Z
END:VEVENT
END:VCALENDAR
