BEGIN:VCALENDAR
VERSION:2.0
PRODID:TU Chemnitz
METHOD:PUBLISH
X-WR-CALNAME:Veranstaltungen der TU Chemnitz
X-WR-TIMEZONE:Europe/Berlin
BEGIN:VEVENT
CLASS:PUBLIC
DTSTART;TZID="Europe/Berlin":20030502T210000
DTEND;TZID="Europe/Berlin":20030503T030000
LOCATION:PEB-Studentenkeller\,Reichenhainer Str.37
SUMMARY:SALSA-ABEND (PEB-Studentenkeller)
DESCRIPTION: \nTanzend ins Wochenende - DJ Jose sorgt mit \nSalsa-Klängen wieder für beste Stimmung im \nPEB-Studentenkeller! \n\nMit Tanzkurs ab 21UHR!\n
ORGANIZER:MAILTO:thein@hrz.tu-chemnitz.de
UID:3381@www.tu-chemnitz.de
CREATED:20030422T154400Z
DTSTAMP:20210802T201716Z
END:VEVENT
END:VCALENDAR
