BEGIN:VCALENDAR
VERSION:2.0
PRODID:TU Chemnitz
METHOD:PUBLISH
X-WR-CALNAME:Veranstaltungen der TU Chemnitz
X-WR-TIMEZONE:Europe/Berlin
BEGIN:VEVENT
CLASS:PUBLIC
DTSTART;TZID="Europe/Berlin":20030422T171500
DTEND;TZID="Europe/Berlin":20030422T184500
LOCATION:Wilhelm-Raabe-Str. 43\, Chemnitz
SUMMARY:Psychologie-Kolloquium:"Soziales Gedächtnis und sozialer Einfluss auf Erinnerungen" (Philosophische Fakultät\, Institut für Psychologie)
DESCRIPTION:Dr. Hartmut Blank\, Universität Leipzig\, Institut für Psychologie
ORGANIZER:MAILTO:pfl@hrz.tu-chemnitz.de
UID:3379@www.tu-chemnitz.de
CREATED:20030422T125400Z
DTSTAMP:20210802T201946Z
END:VEVENT
END:VCALENDAR
