BEGIN:VCALENDAR
VERSION:2.0
PRODID:TU Chemnitz
METHOD:PUBLISH
X-WR-CALNAME:Veranstaltungen der TU Chemnitz
X-WR-TIMEZONE:Europe/Berlin
BEGIN:VEVENT
CLASS:PUBLIC
DTSTART;TZID="Europe/Berlin":20030614T100000
DTEND;TZID="Europe/Berlin":20030614T160000
LOCATION:Reichenhainer Str. 70\, Chemnitz (Zentr. Hörsaal- und Seminargebäude)
SUMMARY:Statt dessen II. - Radwandertag (Studentenrat)
DESCRIPTION:Auch in diesem Jahr führen die StuRä der WSH Zwickau und der TU Chemnitz wieder einen Radwandertag zum Stausee Oberwald durch\, der in Anlehnung an die\nletztjährige Veranstaltung unter dem Motto "Statt dessen II." laufen wird.\nStudentenräte der TU Chemnitz und der WSH Zwickau\nStudentenrat\, (0371) 531 26 39
ORGANIZER:MAILTO:leps@mathematik.tu-chemnitz.de
UID:3363@www.tu-chemnitz.de
CREATED:20030416T151800Z
DTSTAMP:20210802T201642Z
END:VEVENT
END:VCALENDAR
