BEGIN:VCALENDAR
VERSION:2.0
PRODID:TU Chemnitz
METHOD:PUBLISH
X-WR-CALNAME:Veranstaltungen der TU Chemnitz
X-WR-TIMEZONE:Europe/Berlin
BEGIN:VEVENT
CLASS:PUBLIC
DTSTART;TZID="Europe/Berlin":20030519T090000
DTEND;TZID="Europe/Berlin":20030519T090000
LOCATION:Ausstellungsgelände der Messe Frankfurt am Main\, Halle 1.2\, Stand A13-B18
SUMMARY:ACHEMA 2003  (Fakultät für Maschinenbau und Verfahrenstechnik\, Professur Strömungsmechanik)
DESCRIPTION:Exponat:"Mikrodurchflussmessung"\nAussteller: Herr Univ.-Prof. Dr. G. Wozniak und Herr Prof. Dr. D. Petrak\nTel.:  49 371 531 4717\, Fax: -1847\, e-mail: petrak@imech.tu-chemnitz.de\nInternet: www.tu-chemnitz.de/mbv/StroemMech\n\n\n\n\n\n\n\n\n\nBereich WD\, Frau Metzner\, Te.: +49 371 1327\, e-mail: regine.metzner@verwaltung.tu-chemnitz.de
ORGANIZER:MAILTO:reme@hrz.tu-chemnitz.de
UID:3353@www.tu-chemnitz.de
CREATED:20030414T135800Z
DTSTAMP:20210802T201716Z
END:VEVENT
END:VCALENDAR
