BEGIN:VCALENDAR
VERSION:2.0
PRODID:TU Chemnitz
METHOD:PUBLISH
X-WR-CALNAME:Veranstaltungen der TU Chemnitz
X-WR-TIMEZONE:Europe/Berlin
BEGIN:VEVENT
CLASS:PUBLIC
DTSTART;TZID="Europe/Berlin":20030501T100000
DTEND;TZID="Europe/Berlin":20030501T180000
LOCATION:Vettersstr. 64/66\, Chemnitz (Studentenwohnheim)
SUMMARY:Maifeiertagswanderung (smd)
DESCRIPTION:Alle\, die gern Bewegung\, gute Gespräche und ein Picknick miteinander verbinden\, sind herzlich eingeladen.
ORGANIZER:MAILTO:wache@hrz.tu-chemnitz.de
UID:3350@www.tu-chemnitz.de
CREATED:20030414T080100Z
DTSTAMP:20210802T201730Z
END:VEVENT
END:VCALENDAR
