BEGIN:VCALENDAR
VERSION:2.0
PRODID:TU Chemnitz
METHOD:PUBLISH
X-WR-CALNAME:Veranstaltungen der TU Chemnitz
X-WR-TIMEZONE:Europe/Berlin
BEGIN:VEVENT
CLASS:PUBLIC
DTSTART;TZID="Europe/Berlin":20030506T190000
DTEND;TZID="Europe/Berlin":20030506T203000
LOCATION:Reichenhainer Str. 70\, Chemnitz (Zentr. Hörsaal- und Seminargebäude)
SUMMARY:Der Sachsenspiegel und die Rezeption des römischen Rechts. Der Übergang zum Inquisitionsprozess im 15. und 16. Jahrhundert. (TU Chemnitz\, Philosophische Fakultät)
DESCRIPTION:Antrittsvortrag zur Ernennung als Privatdozent\nDr. Manfred Wilde\, Leipzig\nkarla.kebsch@phil.tu-chemnitz.de
ORGANIZER:MAILTO:keka@hrz.tu-chemnitz.de
UID:3325@www.tu-chemnitz.de
CREATED:20030408T094700Z
DTSTAMP:20210802T201727Z
END:VEVENT
END:VCALENDAR
