BEGIN:VCALENDAR
VERSION:2.0
PRODID:TU Chemnitz
METHOD:PUBLISH
X-WR-CALNAME:Veranstaltungen der TU Chemnitz
X-WR-TIMEZONE:Europe/Berlin
BEGIN:VEVENT
CLASS:PUBLIC
DTSTART;TZID="Europe/Berlin":20030710T153000
DTEND;TZID="Europe/Berlin":20030710T170000
LOCATION:Str. der Nationen 62\, Chemnitz (Böttcher-Bau)
SUMMARY:Allgemeine Informationen zum Auslandsstudium und -praktikum (TU Chemnitz\, Internationales Universitätskolleg (IUK))
DESCRIPTION:Informationsveranstaltung des IUK\nAuslandsaufenthalt während des Studiums\nHerr Michael Funke
ORGANIZER:MAILTO:kgu@hrz.tu-chemnitz.de
UID:3305@www.tu-chemnitz.de
CREATED:20030402T102600Z
DTSTAMP:20210802T201602Z
END:VEVENT
END:VCALENDAR
