BEGIN:VCALENDAR
VERSION:2.0
PRODID:TU Chemnitz
METHOD:PUBLISH
X-WR-CALNAME:Veranstaltungen der TU Chemnitz
X-WR-TIMEZONE:Europe/Berlin
BEGIN:VEVENT
CLASS:PUBLIC
DTSTART;TZID="Europe/Berlin":20030522T153000
DTEND;TZID="Europe/Berlin":20030522T170000
LOCATION:Str. der Nationen 62\, Chemnitz (Böttcher-Bau)
SUMMARY:Studium und Praktika in den USA (TU Chemnitz\, Internationales Universitätskolleg (IUK))
DESCRIPTION:Informationsveranstaltung des IUK\nAuslandsaufenthalt während des Studiums\nFrau Kämmer vom U.S. Consulate General Leipzig
ORGANIZER:MAILTO:kgu@hrz.tu-chemnitz.de
UID:3302@www.tu-chemnitz.de
CREATED:20030402T102000Z
DTSTAMP:20210802T201723Z
END:VEVENT
END:VCALENDAR
