BEGIN:VCALENDAR
VERSION:2.0
PRODID:TU Chemnitz
METHOD:PUBLISH
X-WR-CALNAME:Veranstaltungen der TU Chemnitz
X-WR-TIMEZONE:Europe/Berlin
BEGIN:VEVENT
CLASS:PUBLIC
DTSTART;TZID="Europe/Berlin":20030718T090000
DTEND;TZID="Europe/Berlin":20030718T110000
LOCATION:Str. der Nationen 62\, Chemnitz (Böttcher-Bau)
SUMMARY:Nanotechnology in lithium batteries  (Fakultät für Naturwissenschaften\, Institut für Chemie)
DESCRIPTION:Prof. Bruno Scrosati\, Universita di Roma\, Dipartimento di Chimica\nProf. Dr. R. Holze\, fon: (0371) 531 1509\, fax: (0371) 531 1832\, e-mail: rudolf.holze@chemie.tu-chemnitz.de
ORGANIZER:MAILTO:erah@hrz.tu-chemnitz.de
UID:3294@www.tu-chemnitz.de
CREATED:20030331T133300Z
DTSTAMP:20210802T201558Z
END:VEVENT
END:VCALENDAR
