BEGIN:VCALENDAR
VERSION:2.0
PRODID:TU Chemnitz
METHOD:PUBLISH
X-WR-CALNAME:Veranstaltungen der TU Chemnitz
X-WR-TIMEZONE:Europe/Berlin
BEGIN:VEVENT
CLASS:PUBLIC
DTSTART;TZID="Europe/Berlin":20030605T160000
DTEND;TZID="Europe/Berlin":20030605T180000
LOCATION:Str. der Nationen 62\, Chemnitz (Böttcher-Bau)
SUMMARY:Chirale Organolithium-Verbindungen – neue Strategien und Möglichkeiten der enantioselektiven Synthese  (Fakultät für Naturwissenschaften\, Institut für Chemie gemeinsam mit der Ortsgruppe Chemnitz der GDCh)
DESCRIPTION:Prof. Dr. Dieter Hoppe\, Organisch-Chemisches Institut der Westfälischen Wilhelms-Universität Münster\nProf. Dr. R. Holze\, fon: (0371) 531 1509\, fax: (0371) 531 1832\, e-mail: rudolf.holze@chemie.tu-chemnitz.de
ORGANIZER:MAILTO:erah@hrz.tu-chemnitz.de
UID:3276@www.tu-chemnitz.de
CREATED:20030331T105300Z
DTSTAMP:20210802T201630Z
END:VEVENT
END:VCALENDAR
