BEGIN:VCALENDAR
VERSION:2.0
PRODID:TU Chemnitz
METHOD:PUBLISH
X-WR-CALNAME:Veranstaltungen der TU Chemnitz
X-WR-TIMEZONE:Europe/Berlin
BEGIN:VEVENT
CLASS:PUBLIC
DTSTART;TZID="Europe/Berlin":20030522T160000
DTEND;TZID="Europe/Berlin":20030522T180000
LOCATION:Str. der Nationen 62\, Chemnitz (Böttcher-Bau)
SUMMARY:Direkt- und Templatsynthese N-heterocyclischer Carbene (Fakultät für Naturwissenschaften\, Institut für Chemie gemeinsam mit der Ortsgruppe Chemnitz der GDCh)
DESCRIPTION:Prof. Dr. Ekkehard Hahn\, Anorganisch-Chemisches Institut der Westfälischen Wilhelms-Universität Münster\nProf. Dr. R. Holze\, fon: (0371) 531 1509\, fax: (0371) 531 1832\, e-mail: rudolf.holze@chemie.tu-chemnitz.de
ORGANIZER:MAILTO:erah@hrz.tu-chemnitz.de
UID:3275@www.tu-chemnitz.de
CREATED:20030331T104900Z
DTSTAMP:20210802T201726Z
END:VEVENT
END:VCALENDAR
