BEGIN:VCALENDAR
VERSION:2.0
PRODID:TU Chemnitz
METHOD:PUBLISH
X-WR-CALNAME:Veranstaltungen der TU Chemnitz
X-WR-TIMEZONE:Europe/Berlin
BEGIN:VEVENT
CLASS:PUBLIC
DTSTART;TZID="Europe/Berlin":20030424T203000
DTEND;TZID="Europe/Berlin":20030425T070000
LOCATION:Reichenhainer Str. 55\, Chemnitz (Mensa)
SUMMARY:4. Chemnitzer Lesenacht (Studentenwerk\, Romanische Kulturwissenschaft der TUC und UNIVERSITAS-Buchhandlung)
DESCRIPTION:Lesen ist Leben.Leben ist Lesen.\nCampus-Lesenacht 2003 - ein Fest für Stimmen\, Augen\, Ohren und Gaumen.\n\n
ORGANIZER:MAILTO:uvo@hrz.tu-chemnitz.de
UID:3255@www.tu-chemnitz.de
CREATED:20030323T144900Z
DTSTAMP:20210802T201950Z
END:VEVENT
END:VCALENDAR
