BEGIN:VCALENDAR
VERSION:2.0
PRODID:TU Chemnitz
METHOD:PUBLISH
X-WR-CALNAME:Veranstaltungen der TU Chemnitz
X-WR-TIMEZONE:Europe/Berlin
BEGIN:VEVENT
CLASS:PUBLIC
DTSTART;TZID="Europe/Berlin":20030318T210000
DTEND;TZID="Europe/Berlin":20030318T230000
LOCATION:Reichenhainer Str.35/37 09126 Chemnitz
SUMMARY:[Kino] im mittendrin: Antanarjuat - Die Legende vom schnellen Läufer (Filmclub mittendrin)
DESCRIPTION:Zu Beginn des ersten Jahrtausends wird in der kanadischen\nArktis ein Nomadenstamm der Inuit mit einem Fluch belegt. Es\nkommt zu bisher nie gekannter Gewalt\, die nur beendet werden\nkann\, wenn das Böse vertrieben wird. Kanada 2000\n<a href="http://www.filmclub-mittendrin.de"target="_blank"><h1>www.filmclub-mittendrin.de</h1></a>
ORGANIZER:MAILTO:fuh@hrz.tu-chemnitz.de
UID:3246@www.tu-chemnitz.de
CREATED:20030314T111100Z
DTSTAMP:20210802T202114Z
END:VEVENT
END:VCALENDAR
