BEGIN:VCALENDAR
VERSION:2.0
PRODID:TU Chemnitz
METHOD:PUBLISH
X-WR-CALNAME:Veranstaltungen der TU Chemnitz
X-WR-TIMEZONE:Europe/Berlin
BEGIN:VEVENT
CLASS:PUBLIC
DTSTART;TZID="Europe/Berlin":20030415T193000
DTEND;TZID="Europe/Berlin":20030415T193000
LOCATION:Reichenhainer Str. 70\, Chemnitz (Weinhold-Bau)
SUMMARY:Faszination Weltall .. über Gott und die Sterne (etc. Studentengruppe)
DESCRIPTION:illustrierte Vorträge von Dr. N. Pailer\nThema:"Bilder vom Rand der Welt"\nannett.glöckner@s2000.tu-chemnitz.de
ORGANIZER:MAILTO:glan@hrz.tu-chemnitz.de
UID:3242@www.tu-chemnitz.de
CREATED:20030313T124900Z
DTSTAMP:20210802T201948Z
END:VEVENT
END:VCALENDAR
