BEGIN:VCALENDAR
VERSION:2.0
PRODID:TU Chemnitz
METHOD:PUBLISH
X-WR-CALNAME:Veranstaltungen der TU Chemnitz
X-WR-TIMEZONE:Europe/Berlin
BEGIN:VEVENT
CLASS:PUBLIC
DTSTART;TZID="Europe/Berlin":20030315T150000
DTEND;TZID="Europe/Berlin":20030315T180000
LOCATION:Reichenhainer Str. 55\, Chemnitz (Mensa)
SUMMARY:Premiere Bundesliga im TaC (TaC)
DESCRIPTION:...wie jeden Sonnabend gibts Bundesliga im TaC\nTel.: 0177 5387334
ORGANIZER:MAILTO:made@hrz.tu-chemnitz.de
UID:3235@www.tu-chemnitz.de
CREATED:20030308T180900Z
DTSTAMP:20210802T202111Z
END:VEVENT
END:VCALENDAR
