BEGIN:VCALENDAR
VERSION:2.0
PRODID:TU Chemnitz
METHOD:PUBLISH
X-WR-CALNAME:Veranstaltungen der TU Chemnitz
X-WR-TIMEZONE:Europe/Berlin
BEGIN:VEVENT
CLASS:PUBLIC
DTSTART;TZID="Europe/Berlin":20030312T200000
DTEND;TZID="Europe/Berlin":20030312T235900
LOCATION:Reichenhainer Str. 55\, Chemnitz (Mensa)
SUMMARY:Champions League: Dortmund-Moskau (TU Chemnitz)
DESCRIPTION:Live Spiel: Dortmund-Moskau....und danach die Zusammenfassungen der anderen Spiele\nTaC
ORGANIZER:MAILTO:made@hrz.tu-chemnitz.de
UID:3233@www.tu-chemnitz.de
CREATED:20030308T180200Z
DTSTAMP:20210802T202109Z
END:VEVENT
END:VCALENDAR
