BEGIN:VCALENDAR
VERSION:2.0
PRODID:TU Chemnitz
METHOD:PUBLISH
X-WR-CALNAME:Veranstaltungen der TU Chemnitz
X-WR-TIMEZONE:Europe/Berlin
BEGIN:VEVENT
CLASS:PUBLIC
DTSTART;TZID="Europe/Berlin":20030621T190000
DTEND;TZID="Europe/Berlin":20030621T190000
LOCATION:Renaissance Chemnitz Hotel
SUMMARY:Universitätsball (TU Chemnitz)
DESCRIPTION:Bereich Marketing/Öffentlichkeitsarbeit\, Claudia Pfeiffer\, Tel. 531-1590
ORGANIZER:MAILTO:iroe@hrz.tu-chemnitz.de
UID:3227@www.tu-chemnitz.de
CREATED:20030307T143600Z
DTSTAMP:20210802T201642Z
END:VEVENT
END:VCALENDAR
