BEGIN:VCALENDAR
VERSION:2.0
PRODID:TU Chemnitz
METHOD:PUBLISH
X-WR-CALNAME:Veranstaltungen der TU Chemnitz
X-WR-TIMEZONE:Europe/Berlin
BEGIN:VEVENT
CLASS:PUBLIC
DTSTART;TZID="Europe/Berlin":19990211T160000
DTEND;TZID="Europe/Berlin":19990211T173000
LOCATION:Uni-Teil 3: Reichenhainer Str. 70\, Chemnitz (Rühlmann-Bau)
SUMMARY:Chemnitzer Mathematisches Colloquium (Fakultät für Mathematik)
DESCRIPTION:Stabilität kritischer Punkte in Optimierungsaufgaben - \nCharakterisierung von Lipschitz-Eigenschaften\nProf. Dr. D. Klatte\, ETH Zürich
ORGANIZER:MAILTO:weigand@mathematik.tu-chemnitz.de
UID:321@www.tu-chemnitz.de
CREATED:19990202T143400Z
DTSTAMP:20210802T203505Z
END:VEVENT
END:VCALENDAR
