BEGIN:VCALENDAR
VERSION:2.0
PRODID:TU Chemnitz
METHOD:PUBLISH
X-WR-CALNAME:Veranstaltungen der TU Chemnitz
X-WR-TIMEZONE:Europe/Berlin
BEGIN:VEVENT
CLASS:PUBLIC
DTSTART;TZID="Europe/Berlin":20030304T210000
DTEND;TZID="Europe/Berlin":20030304T230000
LOCATION:Filmclub mittendrin/ Reichenhainer Str.35/37 Keller /09126 Chemnitz
SUMMARY:[Kino] im mittendrin: Die vier Federn (Filmclub mittendrin)
DESCRIPTION:"Ich ging ohne jede Erwartung in den Kinosaal und verließ\nihn sprachlos. Ich war ehrlich begeistert. Ich sah noch nie\neinen Film der Freundschaft und Loyalität in solcher Form\ndarstellte. Sehr rührend." ... ein Fan\n\nEinlass 20.30 Uhr\nBeginn: 21.00 Uhr\nwww.filmclub-mittendrin.de
ORGANIZER:MAILTO:fuh@hrz.tu-chemnitz.de
UID:3205@www.tu-chemnitz.de
CREATED:20030304T081800Z
DTSTAMP:20210802T202109Z
END:VEVENT
END:VCALENDAR
