BEGIN:VCALENDAR
VERSION:2.0
PRODID:TU Chemnitz
METHOD:PUBLISH
X-WR-CALNAME:Veranstaltungen der TU Chemnitz
X-WR-TIMEZONE:Europe/Berlin
BEGIN:VEVENT
CLASS:PUBLIC
DTSTART;TZID="Europe/Berlin":20030430T173000
DTEND;TZID="Europe/Berlin":20030430T173000
LOCATION:Str. der Nationen 62\, Chemnitz (Böttcher-Bau)
SUMMARY:Vortragsreihe Medizin im Spannungsfeld zwischen Wissenschaft und Gesellschaft "Der Bandscheibenvorfall\, neue und alte Therapien im Lenden- und im Halsbereich" (TU Chemnitz\, Klinikum Chemnitz gGmbH)
DESCRIPTION:Doz. Dr. med. habil. Jochen Schöche\, Chefarzt der Klinik für Neurochirurgie\, Klinikum Chemnitz\nSekretariat Pressestelle\, Tel. 5 31-14 24
ORGANIZER:MAILTO:iroe@hrz.tu-chemnitz.de
UID:3193@www.tu-chemnitz.de
CREATED:20030227T152100Z
DTSTAMP:20210802T201944Z
END:VEVENT
END:VCALENDAR
