BEGIN:VCALENDAR
VERSION:2.0
PRODID:TU Chemnitz
METHOD:PUBLISH
X-WR-CALNAME:Veranstaltungen der TU Chemnitz
X-WR-TIMEZONE:Europe/Berlin
BEGIN:VEVENT
CLASS:PUBLIC
DTSTART;TZID="Europe/Berlin":19990306T090000
DTEND;TZID="Europe/Berlin":19990306T180000
LOCATION:Uni-Teil 3: Reichenhainer Str. 70\, Chemnitz (Zentr. Hörsaal- und Seminargebäude)
SUMMARY:1. Chemnitzer LinuxTag (Universitätsrechenzentrum\, IN-Chemnitz\, CLUG)
DESCRIPTION:Der 1. Chemnitzer LinuxTag ist eine\nInformationsveranstaltung für Linux <b>Ein- und \nUmsteiger</b>. Neben einer <b>Installparty</b> und \nmehreren <b>Vorführungen</b> wird es vor allem ein \numfangreiches <b>Vortragsprogramm</b> geben.
ORGANIZER:MAILTO:kapet@informatik.tu-chemnitz.de
UID:318@www.tu-chemnitz.de
CREATED:19990130T114200Z
DTSTAMP:20210802T203454Z
END:VEVENT
END:VCALENDAR
