BEGIN:VCALENDAR
VERSION:2.0
PRODID:TU Chemnitz
METHOD:PUBLISH
X-WR-CALNAME:Veranstaltungen der TU Chemnitz
X-WR-TIMEZONE:Europe/Berlin
BEGIN:VEVENT
CLASS:PUBLIC
DTSTART;TZID="Europe/Berlin":20030218T210000
DTEND;TZID="Europe/Berlin":20030218T233000
LOCATION:Reichenhainer Str. 35/37\, Keller
SUMMARY:[Kino] im "mittendrin": Die Liebe der Charlotte Gray (Filmclub "mittendrin")
DESCRIPTION:Es gibt Zeiten\, in denen es fast schon heldenhaft ist\, um seine Liebe zu kämpfen. Charlotte Gray tut genau dies.\nWeltkrieg-II-Drama über eine Schottin\, die mit dem Fallschirm über Frankreich abspringt\, um ihren Geliebten zu finden.
ORGANIZER:MAILTO:schneid@hrz.tu-chemnitz.de
UID:3162@www.tu-chemnitz.de
CREATED:20030217T153200Z
DTSTAMP:20210802T202135Z
END:VEVENT
END:VCALENDAR
