BEGIN:VCALENDAR
VERSION:2.0
PRODID:TU Chemnitz
METHOD:PUBLISH
X-WR-CALNAME:Veranstaltungen der TU Chemnitz
X-WR-TIMEZONE:Europe/Berlin
BEGIN:VEVENT
CLASS:PUBLIC
DTSTART;TZID="Europe/Berlin":20030327T200000
DTEND;TZID="Europe/Berlin":20030327T230000
LOCATION:Reichenhainer Str. 55\, Chemnitz (Mensa)
SUMMARY:Diavortrag: "Südafrika-Vom Kap zur Kalahari" (TaC und Boofe)
DESCRIPTION:Das südliche Afrika ist eines der faszinierendsten Gebiete der Erde\, eine Gegend voller landschaflicher und kultureller Gegensätze. Michael Fleck zeigt Ihnen nach seiner viermonatigen Reise der Länder Südafrika\, Simbabwe\, Botswana und Namibia.\nMichael Fleck
ORGANIZER:MAILTO:made@hrz.tu-chemnitz.de
UID:3160@www.tu-chemnitz.de
CREATED:20030215T171100Z
DTSTAMP:20210802T202114Z
END:VEVENT
END:VCALENDAR
