BEGIN:VCALENDAR
VERSION:2.0
PRODID:TU Chemnitz
METHOD:PUBLISH
X-WR-CALNAME:Veranstaltungen der TU Chemnitz
X-WR-TIMEZONE:Europe/Berlin
BEGIN:VEVENT
CLASS:PUBLIC
DTSTART;TZID="Europe/Berlin":20030307T200000
DTEND;TZID="Europe/Berlin":20030307T200000
LOCATION:Reichenhainer Str. 55\, Chemnitz (Mensa)
SUMMARY:Diavortrag: "Von der Atacamawüste zum Titicacasee - Eine Fahrradtour durch die Anden\" (TaC und Boofe)
DESCRIPTION:Fünf Wochen mit den Fahrrad durch die Hochgebirgswelt der Anden. Es ist eine Landschaft\, die ihresgleichen sucht. Unbefestigte Schotterpisten\, Pässe von fast 5000 Meter Höhe\, menschenleere Hochgebirgsregionen.\nJens-Ulrich Groß
ORGANIZER:MAILTO:made@hrz.tu-chemnitz.de
UID:3159@www.tu-chemnitz.de
CREATED:20030215T170300Z
DTSTAMP:20210802T202108Z
END:VEVENT
END:VCALENDAR
