BEGIN:VCALENDAR
VERSION:2.0
PRODID:TU Chemnitz
METHOD:PUBLISH
X-WR-CALNAME:Veranstaltungen der TU Chemnitz
X-WR-TIMEZONE:Europe/Berlin
BEGIN:VEVENT
CLASS:PUBLIC
DTSTART;TZID="Europe/Berlin":20030710T133000
DTEND;TZID="Europe/Berlin":20030710T150000
LOCATION:Reichenhainer Str. 70\, Chemnitz (Zentr. Hörsaal- und Seminargebäude)
SUMMARY:Fakultätskolloquium der Fakultät für Elektrotechnik und Informationstechnik: "Wissenschaftliches Publizieren" (Fakultät für Elektrotechnik und Informationstechnik\, Sonderforschungsbereich 379)
DESCRIPTION:Hinweise für Wissenschaftler und Studenten zu Themen\, wie z.B. Struktur wiss. Präsentation\, Körpersprache u.a.\nDr. rer. nat. habil. Claus E. Ascheron\, Springer-Verlag Heidelberg\nDr. Seckel\, Tel. 531 3261
ORGANIZER:MAILTO:seckel@hrz.tu-chemnitz.de
UID:3155@www.tu-chemnitz.de
CREATED:20030214T115400Z
DTSTAMP:20210802T201559Z
END:VEVENT
END:VCALENDAR
