BEGIN:VCALENDAR
VERSION:2.0
PRODID:TU Chemnitz
METHOD:PUBLISH
X-WR-CALNAME:Veranstaltungen der TU Chemnitz
X-WR-TIMEZONE:Europe/Berlin
BEGIN:VEVENT
CLASS:PUBLIC
DTSTART;TZID="Europe/Berlin":20030404T110000
DTEND;TZID="Europe/Berlin":20030406T150000
LOCATION:Ferienhotel Markersbach
SUMMARY:Gute Nachbarn - schlechte Nachbarn? VI.Deutsch-tschechisches Begegnungsseminar (Philosophische Fakultät\, Professor Dr. Elke Mehnert)
DESCRIPTION:Das deutsch-tschechische Koorperationsseminar steht diesmal unter dem Thema "Grenzpfade".Informationen finden Sie unter http//www.tu-chemnitz.de/phil/germanistik/komparatistik/gnsn\nSandra.Kersten@phil.tu-chemnitz.de
ORGANIZER:MAILTO:elke@hrz.tu-chemnitz.de
UID:3153@www.tu-chemnitz.de
CREATED:20030213T174600Z
DTSTAMP:20210802T201946Z
END:VEVENT
END:VCALENDAR
