BEGIN:VCALENDAR
VERSION:2.0
PRODID:TU Chemnitz
METHOD:PUBLISH
X-WR-CALNAME:Veranstaltungen der TU Chemnitz
X-WR-TIMEZONE:Europe/Berlin
BEGIN:VEVENT
CLASS:PUBLIC
DTSTART;TZID="Europe/Berlin":20030211T203000
DTEND;TZID="Europe/Berlin":20030211T233000
LOCATION:Reichenhainer Str 35/37\, Keller
SUMMARY:[kino] im "mittendrin": Führer Ex (TU Chemnitz\, Filmclub "mittendrin")
DESCRIPTION:Schonungslos und ohne verklärende Sentimentalität erzählt der Film die zugleich erschütternde wie fesselnde Geschichte zweier junger DDR-Anarchos\, von Irrwegen\, ungestümer Wut und tödlicher Konsequenz.
ORGANIZER:MAILTO:schneid@hrz.tu-chemnitz.de
UID:3147@www.tu-chemnitz.de
CREATED:20030211T154300Z
DTSTAMP:20210802T202133Z
END:VEVENT
END:VCALENDAR
