BEGIN:VCALENDAR
VERSION:2.0
PRODID:TU Chemnitz
METHOD:PUBLISH
X-WR-CALNAME:Veranstaltungen der TU Chemnitz
X-WR-TIMEZONE:Europe/Berlin
BEGIN:VEVENT
CLASS:PUBLIC
DTSTART;TZID="Europe/Berlin":20030206T210000
DTEND;TZID="Europe/Berlin":20030206T230000
LOCATION:Reichenhainer Str. 35/37 Keller 09126 Chemnitz
SUMMARY:Kino im [mittendrin]: OPIUM (Filmclub mittendrin)
DESCRIPTION:Stummfilm (1919) von Robert Reinert über Segen und Fluch\ndes Opium. Mit ekstatischer Livebegleitung von Schlagzeug\,\nTrompete\, Bongos und Sounds.\n\nEinlass: 20.30 Uhr\nFilmbeginn: 21.00 Uhr\nwww.filmclub-mittendrin.de
ORGANIZER:MAILTO:fuh@hrz.tu-chemnitz.de
UID:3137@www.tu-chemnitz.de
CREATED:20030206T144800Z
DTSTAMP:20210802T202135Z
END:VEVENT
END:VCALENDAR
