BEGIN:VCALENDAR
VERSION:2.0
PRODID:TU Chemnitz
METHOD:PUBLISH
X-WR-CALNAME:Veranstaltungen der TU Chemnitz
X-WR-TIMEZONE:Europe/Berlin
BEGIN:VEVENT
CLASS:PUBLIC
DTSTART;TZID="Europe/Berlin":19990202T200000
DTEND;TZID="Europe/Berlin":19990203T010000
LOCATION:PEB Club
SUMMARY:Cocktailabend
DESCRIPTION:Diesmal mit genügend Eis und Torsten Voigtmann am Klavier.
ORGANIZER:MAILTO:rmend@hrz.tu-chemnitz.de
UID:313@www.tu-chemnitz.de
CREATED:19990126T094800Z
DTSTAMP:20210802T203509Z
END:VEVENT
END:VCALENDAR
