BEGIN:VCALENDAR
VERSION:2.0
PRODID:TU Chemnitz
METHOD:PUBLISH
X-WR-CALNAME:Veranstaltungen der TU Chemnitz
X-WR-TIMEZONE:Europe/Berlin
BEGIN:VEVENT
CLASS:PUBLIC
DTSTART;TZID="Europe/Berlin":20030203T200000
DTEND;TZID="Europe/Berlin":20030203T230000
LOCATION:Vettersstr. 64/66\, Chemnitz (Studentenwohnheim)
SUMMARY:Sketch-Fabrik (SMD)
DESCRIPTION:Hallo!\n\nDas studieren und lernen satt?  \nIhr fühlt euch müde und matt?\nWie wärs mal mit ablachen... \nWir bieten Sketche zum mitmachen :)\n\n
ORGANIZER:MAILTO:wache@hrz.tu-chemnitz.de
UID:3128@www.tu-chemnitz.de
CREATED:20030203T133200Z
DTSTAMP:20210802T202137Z
END:VEVENT
END:VCALENDAR
