BEGIN:VCALENDAR
VERSION:2.0
PRODID:TU Chemnitz
METHOD:PUBLISH
X-WR-CALNAME:Veranstaltungen der TU Chemnitz
X-WR-TIMEZONE:Europe/Berlin
BEGIN:VEVENT
CLASS:PUBLIC
DTSTART;TZID="Europe/Berlin":20030130T140000
DTEND;TZID="Europe/Berlin":20030130T153000
LOCATION:Str. der Nationen 62\, Chemnitz (Böttcher-Bau)
SUMMARY:77. Informatik-Kolloquium: Approximieren der chromatischen Zahl zufälliger Graphen mittels semidefiniter Programmierung (Fakultät für Informatik)
DESCRIPTION:Alle interessierten Personen sind herzlich eingeladen!\nDr. Amin Coja-Oghlan (Humboldt-Universität zu Berlin)\nkolloquium@informatik.tu-chemnitz.de
ORGANIZER:MAILTO:lro@hrz.tu-chemnitz.de
UID:3111@www.tu-chemnitz.de
CREATED:20030124T102300Z
DTSTAMP:20210802T202148Z
END:VEVENT
END:VCALENDAR
