BEGIN:VCALENDAR
VERSION:2.0
PRODID:TU Chemnitz
METHOD:PUBLISH
X-WR-CALNAME:Veranstaltungen der TU Chemnitz
X-WR-TIMEZONE:Europe/Berlin
BEGIN:VEVENT
CLASS:PUBLIC
DTSTART;TZID="Europe/Berlin":20030123T213000
DTEND;TZID="Europe/Berlin":20030123T235900
LOCATION:Vettersstr. 70/72\, Chemnitz (Studentenwohnheim)
SUMMARY:Auf ins Kalkwerk! (bspw.)
DESCRIPTION:Thomas Bernhards "Kalkwerk" öffnet seine schweren Pforten.\nGeorg Spindler\nbspw@tu-chemnitz.de
ORGANIZER:MAILTO:hath@hrz.tu-chemnitz.de
UID:3100@www.tu-chemnitz.de
CREATED:20030120T185700Z
DTSTAMP:20210802T202151Z
END:VEVENT
END:VCALENDAR
