BEGIN:VCALENDAR
VERSION:2.0
PRODID:TU Chemnitz
METHOD:PUBLISH
X-WR-CALNAME:Veranstaltungen der TU Chemnitz
X-WR-TIMEZONE:Europe/Berlin
BEGIN:VEVENT
CLASS:PUBLIC
DTSTART;TZID="Europe/Berlin":20030227T160000
DTEND;TZID="Europe/Berlin":20030227T180000
LOCATION:Chemnitz\, Messeplatz 1
SUMMARY:Selbstbewertung zur Qualitätsverbesserung (DGQ-Regionalkreis Chemnitz)
DESCRIPTION:Im Rahmen der 6. Industriefachmesse INTEC 2003 werden mehrere Vorträge \nzur Verbesserung des Qualitätsmanagements\, u.a. durch Selbstbewertung \nin Unternehmen\, gehalten (s.a. Vortragsprogramm der INTEC).\nProf. Dietzsch\, Dr. Althaus\, DI Gerber\, DI Seidel\, DI Kemper\nDGQ-Obmann Dr. Althaus; Tel.: 0371 531 2266
ORGANIZER:MAILTO:kalt@hrz.tu-chemnitz.de
UID:3067@www.tu-chemnitz.de
CREATED:20030114T131000Z
DTSTAMP:20210802T202135Z
END:VEVENT
END:VCALENDAR
