BEGIN:VCALENDAR
VERSION:2.0
PRODID:TU Chemnitz
METHOD:PUBLISH
X-WR-CALNAME:Veranstaltungen der TU Chemnitz
X-WR-TIMEZONE:Europe/Berlin
BEGIN:VEVENT
CLASS:PUBLIC
DTSTART;TZID="Europe/Berlin":20030116T210000
DTEND;TZID="Europe/Berlin":20030116T230000
LOCATION:Reichenhainer Str. 35/37 09126 Chemnitz
SUMMARY:[Kino] im "mittendrin": Insomnia (Filmclub "mittendrin")
DESCRIPTION:Insomnia ist das US-Remake des gleichnamigen norwe-\ngischen Independentfilms von Erik Skjoldbjærg aus dem\nJahr 1997; die besten Geschichten kommen eben immer\nnoch aus Europa. USA 2002\, Regie: C.Nolan (Memento)\n\nhttp://www.filmclub-mittendrin.de
ORGANIZER:MAILTO:fuh@hrz.tu-chemnitz.de
UID:3062@www.tu-chemnitz.de
CREATED:20030114T105100Z
DTSTAMP:20210802T202154Z
END:VEVENT
END:VCALENDAR
