BEGIN:VCALENDAR
VERSION:2.0
PRODID:TU Chemnitz
METHOD:PUBLISH
X-WR-CALNAME:Veranstaltungen der TU Chemnitz
X-WR-TIMEZONE:Europe/Berlin
BEGIN:VEVENT
CLASS:PUBLIC
DTSTART;TZID="Europe/Berlin":20030114T210000
DTEND;TZID="Europe/Berlin":20030114T230000
LOCATION:Reichenhainer Str. 35/37 09126 Chemnitz
SUMMARY:[Kino] im "mittendrin": Der Mann ohne Vergangenheit (Filmclub "mittendrin")
DESCRIPTION:Ein Namenloser (Markku Peltola)\, überfallen und aus-\ngeraubt nach einer Zugfahrt und von den Ärzten für tot\nerklärt\, findet sich plötzlich erinnerungslos in einem\nzweiten Leben wieder. Regie: Aki Kaurismäki\n\nhttp://www.filmclub-mittendrin.de
ORGANIZER:MAILTO:fuh@hrz.tu-chemnitz.de
UID:3061@www.tu-chemnitz.de
CREATED:20030114T104800Z
DTSTAMP:20210802T202151Z
END:VEVENT
END:VCALENDAR
