BEGIN:VCALENDAR
VERSION:2.0
PRODID:TU Chemnitz
METHOD:PUBLISH
X-WR-CALNAME:Veranstaltungen der TU Chemnitz
X-WR-TIMEZONE:Europe/Berlin
BEGIN:VEVENT
CLASS:PUBLIC
DTSTART;TZID="Europe/Berlin":20030110T153000
DTEND;TZID="Europe/Berlin":20030110T190000
LOCATION:Reichenhainer Str. 70\, Chemnitz (Zentr. Hörsaal- und Seminargebäude)
SUMMARY:\\\"Europa auf dem Weg zur Erweiterung\\\" (Initiative Europa Studien e.V.)
DESCRIPTION:15:30 Brigitte Wenzel-Perillo MdEP \"Arbeiten im Europäischen Parlament"\n16:30 Prof.Dr.Niedobitek \17:30 PhDr. Miroslav Mares \\n18:30 Intiative Europa Studien \"Europa - Quo vadis\\nBrigitte Wenzel-Perillo\, M.d.E.P.\nies@tu-chemnitz.de
ORGANIZER:MAILTO:alco@hrz.tu-chemnitz.de
UID:3048@www.tu-chemnitz.de
CREATED:20030110T090900Z
DTSTAMP:20210802T202143Z
END:VEVENT
END:VCALENDAR
