BEGIN:VCALENDAR
VERSION:2.0
PRODID:TU Chemnitz
METHOD:PUBLISH
X-WR-CALNAME:Veranstaltungen der TU Chemnitz
X-WR-TIMEZONE:Europe/Berlin
BEGIN:VEVENT
CLASS:PUBLIC
DTSTART;TZID="Europe/Berlin":20030206T200000
DTEND;TZID="Europe/Berlin":20030206T230000
LOCATION:Reichenhainer Str. 55\, Chemnitz (Mensa)
SUMMARY:Klaus-Peter Kappest Diavortrag: Faszination Skandinavien (TU Chemnitz)
DESCRIPTION:Brandung\, Wind und Klippen - Rote Häuschen\, grüne Wälder\,\nblaue Seen - der Geruch von feuchtem Moos\, von Seetang \nund Meerwasser\, von Schnee und Lagerfeuer. \n\nTaC
ORGANIZER:MAILTO:made@hrz.tu-chemnitz.de
UID:3039@www.tu-chemnitz.de
CREATED:20030108T110500Z
DTSTAMP:20210802T202138Z
END:VEVENT
END:VCALENDAR
