BEGIN:VCALENDAR
VERSION:2.0
PRODID:TU Chemnitz
METHOD:PUBLISH
X-WR-CALNAME:Veranstaltungen der TU Chemnitz
X-WR-TIMEZONE:Europe/Berlin
BEGIN:VEVENT
CLASS:PUBLIC
DTSTART;TZID="Europe/Berlin":20030218T200000
DTEND;TZID="Europe/Berlin":20030218T230000
LOCATION:Reichenhainer Str. 55\, Chemnitz (Mensa)
SUMMARY:Champions League auf Großleinwand im TaC
DESCRIPTION:Leverkusen - Newcastle und danach die Zusammenfassungen \nvon FC Barcelona-Inter Mailand\, Arsenal FC - Ajax Amsterdam \nund AS Rom-Valencia
ORGANIZER:MAILTO:made@hrz.tu-chemnitz.de
UID:3031@www.tu-chemnitz.de
CREATED:20030107T143600Z
DTSTAMP:20210802T202135Z
END:VEVENT
END:VCALENDAR
