BEGIN:VCALENDAR
VERSION:2.0
PRODID:TU Chemnitz
METHOD:PUBLISH
X-WR-CALNAME:Veranstaltungen der TU Chemnitz
X-WR-TIMEZONE:Europe/Berlin
BEGIN:VEVENT
CLASS:PUBLIC
DTSTART;TZID="Europe/Berlin":20030507T171500
DTEND;TZID="Europe/Berlin":20030507T184500
LOCATION:Reichenhainer Str. 70\, Chemnitz (Zentr. Hörsaal- und Seminargebäude)
SUMMARY:Theoretische Untersuchungen zu inneren Grenzflächen (Vorstellungsvortrag zum Habilitationsverfahren) (TU Chemnitz\, Institut für Physik)
DESCRIPTION:Physikalisches Kolloquium\n\nDr. Sibylle Gemming\, Technische Universität Chemnitz\nProf. Dr. Michael Schreiber\,Tel.3142
ORGANIZER:MAILTO:elhi@hrz.tu-chemnitz.de
UID:2993@www.tu-chemnitz.de
CREATED:20021218T142500Z
DTSTAMP:20210802T201721Z
END:VEVENT
END:VCALENDAR
