BEGIN:VCALENDAR
VERSION:2.0
PRODID:TU Chemnitz
METHOD:PUBLISH
X-WR-CALNAME:Veranstaltungen der TU Chemnitz
X-WR-TIMEZONE:Europe/Berlin
BEGIN:VEVENT
CLASS:PUBLIC
DTSTART;TZID="Europe/Berlin":20021218T190000
DTEND;TZID="Europe/Berlin":20021218T200000
LOCATION:Jakobikirche (am Rathaus)
SUMMARY:Weihnachtsspiel-Gottesdienst (Evangelische Studentengemeinde)
DESCRIPTION:Die Evangelische Studentengemeinde lädt ein zum Weihnachtsspiel-Gottesdienst in der Jakobikirche. Es wird "Das Friedenslicht" aufgeführt\, ein selbstgeschriebenes Stück der ESG Chemnitz.
ORGANIZER:MAILTO:hja@hrz.tu-chemnitz.de
UID:2990@www.tu-chemnitz.de
CREATED:20021217T094800Z
DTSTAMP:20210802T202211Z
END:VEVENT
END:VCALENDAR
