BEGIN:VCALENDAR
VERSION:2.0
PRODID:TU Chemnitz
METHOD:PUBLISH
X-WR-CALNAME:Veranstaltungen der TU Chemnitz
X-WR-TIMEZONE:Europe/Berlin
BEGIN:VEVENT
CLASS:PUBLIC
DTSTART;TZID="Europe/Berlin":20021218T180000
DTEND;TZID="Europe/Berlin":20021218T200000
LOCATION:Str. der Nationen 62\, Chemnitz (Böttcher-Bau)
SUMMARY:TeX-Stammtisch: Konfiguration von Bibtex mittels custom-bib (Universitätsrechenzentrum)
DESCRIPTION:Matthias Kupfer\nralk@s1998.tu-chemnitz.de
ORGANIZER:MAILTO:ralk@hrz.tu-chemnitz.de
UID:2985@www.tu-chemnitz.de
CREATED:20021214T090200Z
DTSTAMP:20210802T202205Z
END:VEVENT
END:VCALENDAR
